BEGIN:VCALENDAR

VERSION:2.0

PRODID:-//hacksw/handcal//NONSGML v1.0//EN

CALSCALE:GREGORIAN

METHOD:PUBLISH

TRANSP:OPAQUE

BEGIN:VEVENT

UID:2f1aa91b01a6a2c2f5f4a48d9aa2907f
DTSTAMP:20260421T135235
DTSTART:20260327T100000
DTEND:20260328T150000
SUMMARY:Cleaning Expo UK 2026
DESCRIPTION:Cleaning Expo UK 2026
LOCATION:
END:VEVENT

END:VCALENDAR
